BEGIN:VCALENDAR
VERSION:2.0
PRODID:-//Rhode Island Wild Plant Society - ECPv6.15.17.1//NONSGML v1.0//EN
CALSCALE:GREGORIAN
METHOD:PUBLISH
X-ORIGINAL-URL:https://riwps.org
X-WR-CALDESC:Events for Rhode Island Wild Plant Society
REFRESH-INTERVAL;VALUE=DURATION:PT1H
X-Robots-Tag:noindex
X-PUBLISHED-TTL:PT1H
BEGIN:VTIMEZONE
TZID:America/New_York
BEGIN:DAYLIGHT
TZOFFSETFROM:-0500
TZOFFSETTO:-0400
TZNAME:EDT
DTSTART:20230312T070000
END:DAYLIGHT
BEGIN:STANDARD
TZOFFSETFROM:-0400
TZOFFSETTO:-0500
TZNAME:EST
DTSTART:20231105T060000
END:STANDARD
BEGIN:DAYLIGHT
TZOFFSETFROM:-0500
TZOFFSETTO:-0400
TZNAME:EDT
DTSTART:20240310T070000
END:DAYLIGHT
BEGIN:STANDARD
TZOFFSETFROM:-0400
TZOFFSETTO:-0500
TZNAME:EST
DTSTART:20241103T060000
END:STANDARD
BEGIN:DAYLIGHT
TZOFFSETFROM:-0500
TZOFFSETTO:-0400
TZNAME:EDT
DTSTART:20250309T070000
END:DAYLIGHT
BEGIN:STANDARD
TZOFFSETFROM:-0400
TZOFFSETTO:-0500
TZNAME:EST
DTSTART:20251102T060000
END:STANDARD
END:VTIMEZONE
BEGIN:VEVENT
DTSTART;TZID=America/New_York:20240221T140000
DTEND;TZID=America/New_York:20240221T153000
DTSTAMP:20260425T121756
CREATED:20240112T204815Z
LAST-MODIFIED:20240113T220238Z
UID:10000241-1708524000-1708529400@riwps.org
SUMMARY:Beechwood Lecture: Planning for Residential Turf Resilience Organically
DESCRIPTION:On Wednesday\, February 21\, 2024 from 2:00 to 3:30 pm\, join Dana Millar\, owner of Dana Designs\, at Beechwood Center\, 44 Beach Street\, North Kingston. \nOrganically grown turf is not only stronger\, but also more resistant to environmental stressors. Dana’s approach is to work harmonious with nature\, using a bottom-up approach to lawn care through building nutrients in the soil. He believes that organic lawn care is based on the premise that healthy turf grass requires healthy soil\, education and knowledge of the environmental factors and cultural practices that affect your lawn. Building resilience in your lawn should focus on soil health rather than applying chemicals to the grass. \nFor this lecture\, Dana will  discuss his approach to organic lawn care and landscaping\, including minimizing the use of chemicals and water\, to create a sustainable home landscape. \nDana Designs\, founded in 2007\, is an organically focused landscaping business in the Chariho Area. \nBeechwood Lectures are a joint effort of the URI Master Gardener Program and the Rhode Island Wild Plant Society. Lectures are free and open to the public. Master Gardeners receive education credits for attending. \nRegistration is required\, and space is limited. To reserve a space contact the Volunteer/Program Coordinator at The Beechwood Center for Life Enrichment at 401-268-1594 or mdubois@northkingstownri.gov.   (If you have not attended past lectures and/or registered your contact information with the Beechwood Center in the last three (3) years\, you may need to provide an updated information form.  This will be provided by Beechwood staff.) \n\nUpcoming Lectures\n4/17/24  Gardening with Native Ferns – Karen Asher\, RI Wild Plant Society\n6/26/24 What’s New in the Residential Nursery World – Barbara Donnelly\,Red Horse Farm/Rose Shack\n8/28/24  Medicinal Plants TBD\n10/16/24  Q and A Gardening Informational Panel – RI Wild Plant Society
URL:https://riwps.org/event/beechwood-lecture-planning-for-residential-turf-resilience-organically/
LOCATION:Beechwood Center\, 44 Beach Street\, North Kingstown\, RI\, 02852\, United States
CATEGORIES:Beechwood Lecture Series
GEO:41.565879;-71.44489
X-APPLE-STRUCTURED-LOCATION;VALUE=URI;X-ADDRESS=Beechwood Center 44 Beach Street North Kingstown RI 02852 United States;X-APPLE-RADIUS=500;X-TITLE=44 Beach Street:geo:-71.44489,41.565879
END:VEVENT
END:VCALENDAR