BEGIN:VCALENDAR
VERSION:2.0
PRODID:-//Rhode Island Wild Plant Society - ECPv6.15.17.1//NONSGML v1.0//EN
CALSCALE:GREGORIAN
METHOD:PUBLISH
X-WR-CALNAME:Rhode Island Wild Plant Society
X-ORIGINAL-URL:https://riwps.org
X-WR-CALDESC:Events for Rhode Island Wild Plant Society
REFRESH-INTERVAL;VALUE=DURATION:PT1H
X-Robots-Tag:noindex
X-PUBLISHED-TTL:PT1H
BEGIN:VTIMEZONE
TZID:America/New_York
BEGIN:DAYLIGHT
TZOFFSETFROM:-0500
TZOFFSETTO:-0400
TZNAME:EDT
DTSTART:20230312T070000
END:DAYLIGHT
BEGIN:STANDARD
TZOFFSETFROM:-0400
TZOFFSETTO:-0500
TZNAME:EST
DTSTART:20231105T060000
END:STANDARD
BEGIN:DAYLIGHT
TZOFFSETFROM:-0500
TZOFFSETTO:-0400
TZNAME:EDT
DTSTART:20240310T070000
END:DAYLIGHT
BEGIN:STANDARD
TZOFFSETFROM:-0400
TZOFFSETTO:-0500
TZNAME:EST
DTSTART:20241103T060000
END:STANDARD
BEGIN:DAYLIGHT
TZOFFSETFROM:-0500
TZOFFSETTO:-0400
TZNAME:EDT
DTSTART:20250309T070000
END:DAYLIGHT
BEGIN:STANDARD
TZOFFSETFROM:-0400
TZOFFSETTO:-0500
TZNAME:EST
DTSTART:20251102T060000
END:STANDARD
END:VTIMEZONE
BEGIN:VEVENT
DTSTART;TZID=America/New_York:20240801T100000
DTEND;TZID=America/New_York:20240801T120000
DTSTAMP:20260424T121838
CREATED:20240629T144823Z
LAST-MODIFIED:20240721T195804Z
UID:10000261-1722506400-1722513600@riwps.org
SUMMARY:First Thursday Botanizing Walk - Herb Hadfield Conservation Area
DESCRIPTION:Lobelia cardinalis\, cardinal flowerphoto GGardner \nOn August 1\, 2024 we welcome you to join Nate McCullin\, Land Stewardship and Outreach Manager and Aaron Teixeira\, Community Connections Coordinator of the Westport Land Conservation Trust for a walk at Herb Hadfield Conservation Area in Westport\, MA from 10am to noon. \nHerb Hadfield is a 187 acre property open to the public year-round. It is built around a warm-season grass meadow which previously was used as pasture land\, and its surrounding mixed hardwood and oak forests and wetlands. One of the primary tributaries of the Westport River\, Angeline Brook\, runs directly through this property – an important coldwater stream which acts as habitat for native brook trout. In addition to that\, its meadows and forested wetlands are crucial stopovers for migratory birds on the Atlantic Flyway. \nAside from the array of warm-season grasses in its meadow\, summer-blooming species of plants like Cardinal Flower (Lobelia cardinalis) and Mad Dog Skullcap (Scutellaria lateriflora) can be found along the forested trails\, along with unusual taxa like Ghost Pipe (Monotropa uniflora) and various lady’s slipper orchids. \nThis walk is free and open to the public. Donations are appreciated.DONATE \nRegistration Below.  We will email the meet up location and directions to those who register a few days before the walk using either office@riwps.org or communications@riwps.org.  (Be sure to check your spam/junk folder if you do not get this email.) \nCancellations. We always have more people who want to attend a walk than can be accommodated. If you find that you cannot attend\, notify communications@riwps.org as soon as possible. \nThis walk is a part of our First Thursday Botanizing Walk Series which is free and open to the public. See our Botanizing Walks home page for important information about these walks.\nAs with all our walks\, sturdy footwear\, clothing appropriate for the weather and for protection against sun exposure\, ticks and other insects\, briers\, tree root etc. as well as a sufficient supply of water and nourishment are essential. Dogs are not permitted.
URL:https://riwps.org/event/first-thursday-botanizing-walk-herb-hadfield-conservation-area/
LOCATION:Westport\, MA
CATEGORIES:Botanizing Walk Series,General Event
END:VEVENT
END:VCALENDAR