BEGIN:VCALENDAR
VERSION:2.0
PRODID:-//Rhode Island Wild Plant Society - ECPv6.15.17.1//NONSGML v1.0//EN
CALSCALE:GREGORIAN
METHOD:PUBLISH
X-ORIGINAL-URL:https://riwps.org
X-WR-CALDESC:Events for Rhode Island Wild Plant Society
REFRESH-INTERVAL;VALUE=DURATION:PT1H
X-Robots-Tag:noindex
X-PUBLISHED-TTL:PT1H
BEGIN:VTIMEZONE
TZID:America/New_York
BEGIN:DAYLIGHT
TZOFFSETFROM:-0500
TZOFFSETTO:-0400
TZNAME:EDT
DTSTART:20240310T070000
END:DAYLIGHT
BEGIN:STANDARD
TZOFFSETFROM:-0400
TZOFFSETTO:-0500
TZNAME:EST
DTSTART:20241103T060000
END:STANDARD
BEGIN:DAYLIGHT
TZOFFSETFROM:-0500
TZOFFSETTO:-0400
TZNAME:EDT
DTSTART:20250309T070000
END:DAYLIGHT
BEGIN:STANDARD
TZOFFSETFROM:-0400
TZOFFSETTO:-0500
TZNAME:EST
DTSTART:20251102T060000
END:STANDARD
BEGIN:DAYLIGHT
TZOFFSETFROM:-0500
TZOFFSETTO:-0400
TZNAME:EDT
DTSTART:20260308T070000
END:DAYLIGHT
BEGIN:STANDARD
TZOFFSETFROM:-0400
TZOFFSETTO:-0500
TZNAME:EST
DTSTART:20261101T060000
END:STANDARD
END:VTIMEZONE
BEGIN:VEVENT
DTSTART;TZID=America/New_York:20250605T100000
DTEND;TZID=America/New_York:20250605T120000
DTSTAMP:20260421T230534
CREATED:20250427T121433Z
LAST-MODIFIED:20250427T122845Z
UID:10000429-1749117600-1749124800@riwps.org
SUMMARY:First Thursday Botanizing Walk: Simmons Mill Pond
DESCRIPTION:Join Roger Greene on June 5\, 2025 from 10 am to noon to explore Simmons Mill Pond Management Area in Little Compton\, RI. \nWe’ll take a walk along the historic laneways through this globally rare Oak/Holly woodland. In early June we will see the transition from spring ephemerals which will be fruiting and going to seed\, to the emerging and unfurling of ten species of ferns leafing out\, and identify eleven species of trees. Along the way we will find the Simmons Mill raceway\, the old mill dam\, an icehouse foundation\, and the successful phragmites control project on Smith Pond. Control was achieved without the use of chemicals. Now six years later\, the area that had been nearly solid with phragmites is a valuable wetland habitat with a large diversity of native plants. \nWalk Leader Roger Greene worked for the RI Department of Environmental Management for about 30 years as a Principal Environmental Scientist.  Since Roger retired from DEM\, he and his wife Gail have been stewards of DEM’s Simmons Mill Pond Management Area\, where they devote approximately 1\,000 hours a year to managing a variety of habitats. \nCome share your enthusiasm and knowledge. Beginners to experts welcome! \nThis walk is free and open to the public.  Donations to help support our walks are appreciated.  DONATE NOW \nGeneral walk guidelines \nWear clothing and sturdy footwear appropriate for the weather conditions and for protection against sun exposure\, ticks and other insects\, briers\, tree root etc. Bring a sufficient supply of water and nourishment for your needs. \nDogs are not permitted. \nCancellations \nShould you need to cancel\, contact us as soon as possible. office@riwps.org  \nWe walk light rain or shine.  In case of  cancellations due to poor weather conditions\, we will email you. We tend to wait until the day before the walk to make this call as weather forecasts can be changeable. \nRegistration is required \nThe number of participants is limited to maximize the ability for everyone to observe the plants and participate in the conversation.   \nNote: Only one person can register at a time. To register a second person\, just repeat the process. \nMore specific location of the walk is provided upon registration. \n  \n \n 
URL:https://riwps.org/event/ftb-simmond-mill-pond-2/
LOCATION:Little Compton\, RI
CATEGORIES:Botanizing Walk Series,General Event,Programs,Walks & Tours
END:VEVENT
BEGIN:VEVENT
DTSTART;TZID=America/New_York:20250607T100000
DTEND;TZID=America/New_York:20250607T120000
DTSTAMP:20260421T230534
CREATED:20250526T005723Z
LAST-MODIFIED:20250602T011700Z
UID:10000433-1749290400-1749297600@riwps.org
SUMMARY:Walk: Basic Botanical Identifying Techniques Used in the Field
DESCRIPTION:On June 7\, 2025 from 10:00 am to noon\, join Nathan Lambstrom\, for a walk through the various ecosystems at George B. Parker Woodland Wildlife Refuge in Coventry RI. Participants will review basic identifying features of various native plants in leaf and flower\, as well as practice the pattern recognition and other techniques used by field botanists to identify unknown species. \nThe walk begins in an upland meadow\, traverses a mixed deciduous woodland\, and passes through a wooded wetland before culminating at a stream bank. By seeing native plants in their wild habitat\, we will get a sense not only of where to find them in the wild\, but also the ecological niches they occupy\, and how we can apply that information to plant selection as horticulturists. We will review identification characteristics and techniques for woody trees and shrubs\, flowering perennials\, and ferns. Please bring any relevant field guides and hand lenses if you have them (some will be available to borrow). \nNathan Lambstrom is a garden ecologist with 15 years of experience in ecology and horticulture. He currently runs his own business designing and planting gardens that support wildlife\, conserve water\, and enrich home environments. Nathan is also a lecturer in the Agriculture Department at URI and holds a MS in plant biology and conservation from Northwestern University.  \nThis walk is free and open to the public.  Donations to help support our walks are appreciated.  DONATE NOW \nGeneral walk guidelines \nWear clothing and sturdy footwear appropriate for the weather conditions and for protection against sun exposure\, ticks and other insects\, briers\, tree root etc. Bring a sufficient supply of water and nourishment for your needs. \nDogs are not permitted. \nCancellations \nShould you need to cancel\, contact us as soon as possible. office@riwps.org  \nWe walk light rain or shine.  In case of  cancellations due to poor weather conditions\, we will email you. We tend to wait until the day before the walk to make this call as weather forecasts can be changeable. \nRegistration is required \nThe number of participants is limited to maximize the ability for everyone to observe the plants and participate in the conversation.   \nNote: Only one person can register at a time. To register a second person\, just repeat the process. \nMore specifics about the location is provided upon registration. \n 
URL:https://riwps.org/event/basic-botanical-identifying-techniques-used-in-the-field/
LOCATION:Cranston\, RI
CATEGORIES:General Event,Programs,Walks
END:VEVENT
BEGIN:VEVENT
DTSTART;TZID=America/New_York:20250610T100000
DTEND;TZID=America/New_York:20250610T120000
DTSTAMP:20260421T230534
CREATED:20250513T004334Z
LAST-MODIFIED:20250513T004911Z
UID:10000432-1749549600-1749556800@riwps.org
SUMMARY:Walk - Wild Urban Plants of the Pawtuxet River
DESCRIPTION:Join botanists Peter Del Tredici and Brian Maynard for an urban ecology walk on Tuesday\, June 10\, 2025\, from 10 a.m. to noon\, along the Pawtuxet River and through Oxboes State Park in Cranston. \nPeter Del Tredici\, has written a field guide\, Wild Urban Plants of the Northeast\, featuring 268 common urban species – native and non-native – that colonize harsh and degraded urban landscapes and which form the basis of our New Urban Ecology. Native or not\, these plants control erosion\, sequester carbon\, provide shade and other ecological functions\, and represent a living laboratory for how nature is adapting to human impacts such as urbanization and climate change. \nPeter has served as a botanist and teacher at the Arnold Arboretum\, Harvard University and MIT with a focus on plant identification and urban ecology and climate change. Brian has recently retired after 33 years teaching horticulture and field botany courses at URI. \nWhile the trails are easy walking participants should wear long pants and sturdy shoes\, and exercise the usual precautions against ticks. Bring water and snacks as well! \nThis walk is free and open to the public.  Donations to help support our walks are appreciated.  DONATE NOW \nGeneral walk guidelines \nDogs are not permitted. \nCancellations \nShould you need to cancel\, contact us as soon as possible. office@riwps.org  \nWe walk light rain or shine.  In case of  cancellations due to poor weather conditions\, we will email you. We tend to wait until the day before the walk to make this call as weather forecasts can be changeable. \nRegistration is required \nThe number of participants is limited to maximize the ability for everyone to observe the plants and participate in the conversation.   \nNote: Only one person can register at a time. To register a second person\, just repeat the process. \nMore specifics about the location is provided upon registration. \n 
URL:https://riwps.org/event/walk-wild-urban-plants-of-the-pawtuxet-river/
LOCATION:Cranston\, RI
CATEGORIES:General Event,Programs,Walks
END:VEVENT
BEGIN:VEVENT
DTSTART;TZID=America/New_York:20250614T090000
DTEND;TZID=America/New_York:20250614T120000
DTSTAMP:20260421T230534
CREATED:20250509T021057Z
LAST-MODIFIED:20260416T203226Z
UID:10000431-1749891600-1749902400@riwps.org
SUMMARY:Plant Identification Workshop
DESCRIPTION:Hone your botanical observation skills and learn to identify plants! \n Join botanist Elizabeth Dickson for a workshop on how to key wildflowers using Newcomb’s and GoBotany. Bring a copy of Newcomb’s Wildflower Guide\, a hand lens\, and your cell phone\, tablet or laptop. we will key out as many wildflowers as we can\, and learn about the Mystery Plant challenge on the RIWPS campanion website\, Among-RI-Wildflowers. \n The workshop will be on June 14\, 2025 from 9-12 in the greenhouse classroom\, URI Greenhouse \, 6 Greenhouse  Rd\, on the URI Kingston\, RI. Free parking is available in the Fine Arts Lot off of Flagg Road You do not need a visitors pass to park in this area.  (link to Campus Map)  \nTo register for more than one member and non member please submit another registration form. \nLimited space.  Registration Required. Fee:  $30.00 or $20.00 for RIWPS members. \nTo register for more than one member and one non member please submit another registration form. \nShould you need to cancel\, contact office@riwps.org \n\n \n 
URL:https://riwps.org/event/plant-identification-workshop-2025/
LOCATION:URI\, Kingston\, RI
CATEGORIES:General Event,Programs,Workshops
END:VEVENT
END:VCALENDAR