BEGIN:VCALENDAR
VERSION:2.0
PRODID:-//Rhode Island Wild Plant Society - ECPv6.15.17.1//NONSGML v1.0//EN
CALSCALE:GREGORIAN
METHOD:PUBLISH
X-ORIGINAL-URL:https://riwps.org
X-WR-CALDESC:Events for Rhode Island Wild Plant Society
REFRESH-INTERVAL;VALUE=DURATION:PT1H
X-Robots-Tag:noindex
X-PUBLISHED-TTL:PT1H
BEGIN:VTIMEZONE
TZID:America/New_York
BEGIN:DAYLIGHT
TZOFFSETFROM:-0500
TZOFFSETTO:-0400
TZNAME:EDT
DTSTART:20230312T070000
END:DAYLIGHT
BEGIN:STANDARD
TZOFFSETFROM:-0400
TZOFFSETTO:-0500
TZNAME:EST
DTSTART:20231105T060000
END:STANDARD
BEGIN:DAYLIGHT
TZOFFSETFROM:-0500
TZOFFSETTO:-0400
TZNAME:EDT
DTSTART:20240310T070000
END:DAYLIGHT
BEGIN:STANDARD
TZOFFSETFROM:-0400
TZOFFSETTO:-0500
TZNAME:EST
DTSTART:20241103T060000
END:STANDARD
BEGIN:DAYLIGHT
TZOFFSETFROM:-0500
TZOFFSETTO:-0400
TZNAME:EDT
DTSTART:20250309T070000
END:DAYLIGHT
BEGIN:STANDARD
TZOFFSETFROM:-0400
TZOFFSETTO:-0500
TZNAME:EST
DTSTART:20251102T060000
END:STANDARD
END:VTIMEZONE
BEGIN:VEVENT
DTSTART;TZID=America/New_York:20240626T140000
DTEND;TZID=America/New_York:20240626T150000
DTSTAMP:20260422T155851
CREATED:20240419T163957Z
LAST-MODIFIED:20240611T193821Z
UID:10000256-1719410400-1719414000@riwps.org
SUMMARY:Beechwood Lecture - Gardening with Pollinators
DESCRIPTION:Eutrochium fistulosum (hollow Joe-Pye weed) with monarch\, photo DMcGrady \nOn Wednesday June 26\, 2024 from 2 to 3 pm join Barbara Donnelly at the Beechwood Center for Life Enrichment\, 44 Beach Street\, North Kingstown. \nBarbara is the owner of Red Horse Farm\, a small farm in Exeter. Barbara raises and sells annuals\, perennials and herbs along with Shetland sheep\, chickens\, ducks\, geese and eggs. She was a vendor at local Farmers Markets for many years and for the past five years has been working at The Rose Shack in North Kingstown. Barbara will talk about her life as a small farmer from a vendor’s view and the importance of pollinators. She will also answer our questions about interesting new natives/perennials available at local nurseries. She will bring some samples of these plants.   \n• Beechwood Lectures are a joint effort of the URI Master Gardener Program and the Rhode Island Wild Plant Society. Master Gardeners receive credit for attending. \n• These lectures are free and open to the public.  Note.  All participants in any Beechwood Center Program must have completed the Beechwood Center’s information form. (See registration procedure below) \n• Registration is required and space is limited.   \nRegistration is through the Beechwood Center for Life Enrichment.   Beechwood Center’s procedure\nSign up by contacting the Volunteer/Program Coordinator at The Beechwood Center for Life Enrichment at 401-268-1594; or via email at:  mdubois@northkingstownri.gov.  PLEASE REQUEST TO REGISTER FOR THIS LECTURE ONLY. These lectures are offered to members and the public\, although if you have not attended past lectures and/or registered your contact information with the Beechwood Center in the last three (3) years\, you may need to complete the Beechwood Center’s information form.  This form will be provided by Beechwood staff when you arrive to attend the lecture.  (A completed information form is necessary for participation in any and all Beechwood Center Programs.)\n \n\nUpcoming Lectures\n• 8/28/24  Growing & Enjoying Ferns – Debi Brodie\, Master Gardener Presenter for the URI Master Gardeners Education Programs co-host URI Cooperative Extension  @ “uricoopext” \n• 10/16/24  Q & A Gardening Informational Panel – RI Wild Plant Society Panel including   Kevin Alverson\, LA\, Sue Theriault RIWPS Plant Sale Committee Chair\, Linda Sollitto Beechwood Gardens \n  \n  \n  \n  \n 
URL:https://riwps.org/event/beechwood-lecture-gardening-with-pollinators/
LOCATION:Beechwood Center\, 44 Beach Street\, North Kingstown\, RI\, 02852\, United States
CATEGORIES:Beechwood Lecture Series,Programs,Talks
GEO:41.565879;-71.44489
X-APPLE-STRUCTURED-LOCATION;VALUE=URI;X-ADDRESS=Beechwood Center 44 Beach Street North Kingstown RI 02852 United States;X-APPLE-RADIUS=500;X-TITLE=44 Beach Street:geo:-71.44489,41.565879
END:VEVENT
END:VCALENDAR