BEGIN:VCALENDAR
VERSION:2.0
PRODID:-//Rhode Island Wild Plant Society - ECPv6.15.17.1//NONSGML v1.0//EN
CALSCALE:GREGORIAN
METHOD:PUBLISH
X-WR-CALNAME:Rhode Island Wild Plant Society
X-ORIGINAL-URL:https://riwps.org
X-WR-CALDESC:Events for Rhode Island Wild Plant Society
REFRESH-INTERVAL;VALUE=DURATION:PT1H
X-Robots-Tag:noindex
X-PUBLISHED-TTL:PT1H
BEGIN:VTIMEZONE
TZID:America/New_York
BEGIN:DAYLIGHT
TZOFFSETFROM:-0500
TZOFFSETTO:-0400
TZNAME:EDT
DTSTART:20220313T070000
END:DAYLIGHT
BEGIN:STANDARD
TZOFFSETFROM:-0400
TZOFFSETTO:-0500
TZNAME:EST
DTSTART:20221106T060000
END:STANDARD
BEGIN:DAYLIGHT
TZOFFSETFROM:-0500
TZOFFSETTO:-0400
TZNAME:EDT
DTSTART:20230312T070000
END:DAYLIGHT
BEGIN:STANDARD
TZOFFSETFROM:-0400
TZOFFSETTO:-0500
TZNAME:EST
DTSTART:20231105T060000
END:STANDARD
BEGIN:DAYLIGHT
TZOFFSETFROM:-0500
TZOFFSETTO:-0400
TZNAME:EDT
DTSTART:20240310T070000
END:DAYLIGHT
BEGIN:STANDARD
TZOFFSETFROM:-0400
TZOFFSETTO:-0500
TZNAME:EST
DTSTART:20241103T060000
END:STANDARD
END:VTIMEZONE
BEGIN:VEVENT
DTSTART;TZID=America/New_York:20230907T100000
DTEND;TZID=America/New_York:20230907T120000
DTSTAMP:20260424T230545
CREATED:20230726T005600Z
LAST-MODIFIED:20230726T022130Z
UID:10000227-1694080800-1694088000@riwps.org
SUMMARY:First Thursday Botanizing Walk - Maxwell Mays Wildlife Refuge
DESCRIPTION:Seaside goldenrod with common buckeye butterfly \nIn late summer the flora begins to change as asters and goldenrods bloom and seeds and fruits mature. Animals rely on many plants for food and shelter while many plants rely on animals for pollination and dispersal. At times the interactions get quite defensive. If you would like to sample the vast array of interactions in Rhode Island join us for an easy hike at Audubon’s Maxwell Mays Wildlife Refuge. In addition to our general botanizing along the way we will also examine plant-animal interactions. On established trails through fields and forests we will decipher how plants and animals struggle and cooperate in order to survive. \nDate/Place: September 7\, 2023 from 10 am to noon at the Maxwell Mays Wildlife Refuge\, Coventry\, RI \nLeader: Scott Ruhren\, Ph.D.\, Senior Director of Conservation\, Audubon Society of Rhode Island \nLevel of Effort: Easy to moderate trail hike \nSpace is limited. Register Below.  We will send directions and the meet up location to participants a few days before the walk. \nThis walk is a part of our First Thursday Botanizing Walk Series. See our Botanizing Walks home page for important details you should know about the walks in this series. 
URL:https://riwps.org/event/first-thursday-botanizing-walk-maxwell-mays-wildlife-refuge-2/
LOCATION:Coventry\, RI
CATEGORIES:Botanizing Walk Series,General Event,Programs,Walks
END:VEVENT
BEGIN:VEVENT
DTSTART;TZID=America/New_York:20230915T100000
DTEND;TZID=America/New_York:20230915T120000
DTSTAMP:20260424T230545
CREATED:20230812T223943Z
LAST-MODIFIED:20230815T164738Z
UID:10000233-1694772000-1694779200@riwps.org
SUMMARY:Nature Walk: Birds & Their Habitat – Trustom Pond National Wildlife Refuge
DESCRIPTION:Hummingbirds buzzing wild bergamot (Monada fistulosa)\, Trustom Pond. Photo: Carmen Rugel \nSeptember is a great time to look for migrating birds! Come on a nature walk with fellow bird and native plant enthusiasts on Friday September 15\, 2023 from 10 am to noon at the Trustom Pond National Wildlife Refuge in South Kingston\, RI. \nFrom Nick Ernst\, wildlife biologist for the Rhode Island National Wildlife Refuge Complex\, learn about the importance of creating high quality habitat for migratory birds\, especially through promoting and restoring native plant populations. Approximately 300 species of birds call Trustom Pond NWR home during the year! \nFrom Lauren Parmelee\, Rhode Island Audubon Society’s Senior Director of Education\, learn more about the birds of Trustom Pond. Lauren will share tips on how to find and identify birds. Birds we hope to see: swallows\, flycatchers\, warblers\, vireos\, herons and hawks. A few specific examples: Barn Swallow\, Eastern Bluebird\, Eastern Kingbird\, Palm Warbler\, Red-tailed Hawk\, Baltimore Orioles and more! \nBring your questions. Bring your binoculars.  (Lauren will bring extra binoculars for you to use\, in case you do not have pair.) \nWe thank Mark Cordle\, RIWPS member\, URI Master and Project Leader of Native Plant Demonstration Garden at the Trustom Pond Contact Station as well as specific restoration sites on the refugee for arranging this walk and for his passion for native plants. \nThis walk is open to the public.  While there is no fee\, donations support our programs. Donate \nRegister is required. Limit of 20 participants. To participate complete the registration form below. \nCancellations: Contact office@riwps.org
URL:https://riwps.org/event/nature-walk-birds-and-their-habitat/
LOCATION:Trustom Pond National Wildlife Refuge\, 1040 Matunuck Schoolhouse Road\, South Kingstown 02879\, Rhode Island\, 02879
CATEGORIES:General Event,Programs,Walks
END:VEVENT
END:VCALENDAR