BEGIN:VCALENDAR
VERSION:2.0
PRODID:-//Rhode Island Wild Plant Society - ECPv6.15.17.1//NONSGML v1.0//EN
CALSCALE:GREGORIAN
METHOD:PUBLISH
X-ORIGINAL-URL:https://riwps.org
X-WR-CALDESC:Events for Rhode Island Wild Plant Society
REFRESH-INTERVAL;VALUE=DURATION:PT1H
X-Robots-Tag:noindex
X-PUBLISHED-TTL:PT1H
BEGIN:VTIMEZONE
TZID:America/New_York
BEGIN:DAYLIGHT
TZOFFSETFROM:-0500
TZOFFSETTO:-0400
TZNAME:EDT
DTSTART:20250309T070000
END:DAYLIGHT
BEGIN:STANDARD
TZOFFSETFROM:-0400
TZOFFSETTO:-0500
TZNAME:EST
DTSTART:20251102T060000
END:STANDARD
BEGIN:DAYLIGHT
TZOFFSETFROM:-0500
TZOFFSETTO:-0400
TZNAME:EDT
DTSTART:20260308T070000
END:DAYLIGHT
BEGIN:STANDARD
TZOFFSETFROM:-0400
TZOFFSETTO:-0500
TZNAME:EST
DTSTART:20261101T060000
END:STANDARD
BEGIN:DAYLIGHT
TZOFFSETFROM:-0500
TZOFFSETTO:-0400
TZNAME:EDT
DTSTART:20270314T070000
END:DAYLIGHT
BEGIN:STANDARD
TZOFFSETFROM:-0400
TZOFFSETTO:-0500
TZNAME:EST
DTSTART:20271107T060000
END:STANDARD
END:VTIMEZONE
BEGIN:VEVENT
DTSTART;TZID=America/New_York:20260122T173000
DTEND;TZID=America/New_York:20260122T190000
DTSTAMP:20260421T155050
CREATED:20260108T144127Z
LAST-MODIFIED:20260108T144127Z
UID:10000835-1769103000-1769108400@riwps.org
SUMMARY:Native Seed Winter Sowing Workshop (Middletown\, RI)
DESCRIPTION:  \nNative Seed Winter Sowing Workshop\nJoin the Aquidneck Land Trust\, Rhode Island Wild Plant Society (RIWPS)\, and Middletown Public Library in this hands-on workshop. Learn how to turn your yard or community space into an oasis for wildlife! \nThursday\, January 22\, 2026 · 5:30 – 7:o0pm  \nMiddletown Public Library \n700 West Main Road\, Middletown\, RI 02842 \nAre you or someone you know interested in learning how to grow your own native plants from seed? It’s a fun and easy way to make your yard more beautiful\, ecologically productive. Surprisingly\, January is the best time to get started! This workshop offers an overview on how to obtain native seeds\, sow them and then care for seedlings until fall planting in the garden. \nPlease bring a one gallon clear/translucent milk jug and learn how to repurpose it into an outdoor native seed sowing container. Soil and native seeds from RIWPS’ ReSeeding Rhode Island program will be provided. Participants will be able to keep their newly sowed native seeds to care for and eventually plant at home. \nWorkshop leader:  Sue Theriault\, is a propagator with RIWPS and leads their ReSeeding Rhode Island program\, an initiative to make our home-grown native seeds more accessible and plentiful. \nRecommended Resource  RIWPS’ handout on Winter Sowing \nRegistration required as enrollment is limited.  \nTHIS IS EVENT IS FULL. YOU CAN JOIN A WAITLIST \n Register through Aquidneck Land Trust via eventbrite.  CLICK HERE \n 
URL:https://riwps.org/event/native-seed-winter-sowing-workshop-middletown-ri/
LOCATION:Middletown Public Library\, 700 West Main Road\, Middletown\, RI
CATEGORIES:General Event,Programs,Workshops
END:VEVENT
END:VCALENDAR