BEGIN:VCALENDAR
VERSION:2.0
PRODID:-//Rhode Island Wild Plant Society - ECPv6.15.17.1//NONSGML v1.0//EN
CALSCALE:GREGORIAN
METHOD:PUBLISH
X-WR-CALNAME:Rhode Island Wild Plant Society
X-ORIGINAL-URL:https://riwps.org
X-WR-CALDESC:Events for Rhode Island Wild Plant Society
REFRESH-INTERVAL;VALUE=DURATION:PT1H
X-Robots-Tag:noindex
X-PUBLISHED-TTL:PT1H
BEGIN:VTIMEZONE
TZID:America/New_York
BEGIN:DAYLIGHT
TZOFFSETFROM:-0500
TZOFFSETTO:-0400
TZNAME:EDT
DTSTART:20230312T070000
END:DAYLIGHT
BEGIN:STANDARD
TZOFFSETFROM:-0400
TZOFFSETTO:-0500
TZNAME:EST
DTSTART:20231105T060000
END:STANDARD
BEGIN:DAYLIGHT
TZOFFSETFROM:-0500
TZOFFSETTO:-0400
TZNAME:EDT
DTSTART:20240310T070000
END:DAYLIGHT
BEGIN:STANDARD
TZOFFSETFROM:-0400
TZOFFSETTO:-0500
TZNAME:EST
DTSTART:20241103T060000
END:STANDARD
BEGIN:DAYLIGHT
TZOFFSETFROM:-0500
TZOFFSETTO:-0400
TZNAME:EDT
DTSTART:20250309T070000
END:DAYLIGHT
BEGIN:STANDARD
TZOFFSETFROM:-0400
TZOFFSETTO:-0500
TZNAME:EST
DTSTART:20251102T060000
END:STANDARD
END:VTIMEZONE
BEGIN:VEVENT
DTSTART;TZID=America/New_York:20241026T133000
DTEND;TZID=America/New_York:20241026T150000
DTSTAMP:20260422T123552
CREATED:20240829T020630Z
LAST-MODIFIED:20240927T154102Z
UID:10000265-1729949400-1729954800@riwps.org
SUMMARY:Identifying Common Invasive Plants Walk - Narragansett
DESCRIPTION:Asian Bittersweet\, photo from Invasive Plants: The Threat They Pose  \nOn 26 October 2024\, from 1:30 to 3 pm\, Tom Hoagland\, President\, Friends of Canonchet\, and Alan Woodmansee\, Master Gardener\, will lead this guided trail walk in Canonchet Farm\, a 124 acre second growth woodland that has become infested with invasive plants\, shrubs and vines.  \nThese plants are increasingly popping up in home gardens due to their prevalence in South County.  Birds spread the seeds. Learn how to identify and control common invasive plants\, such as knotweed\, porcelain berry\, bittersweet\, multiflora rose and privet. The trail is easy but does have protruding roots and can sometimes be wet. Appropriate footwear should be worn. \nClick here for more information about invasive plants including link to the pamphlet Invasive Plants: The Threat They Pose by the Friends of Canonchet Farm \nThis walk is free and open to the public. Donations are appreciated. DONATE \nSpace is limited. Register Below.  We will email the meet up location and directions to those who register a few days before the walk using either office@riwps.org or communications@riwps.org.  (Be sure to check your spam/junk folder if you do not get this email.) \nCancellations. We always have more people who want to attend a walk than can be accommodated. If you find that you cannot attend\, notify office@riwps.org as soon as possible. \nAs with all our walks\, sturdy footwear\, clothing appropriate for the weather and for protection against sun exposure\, ticks and other insects\, briers\, tree root etc. as well as a sufficient supply of water and nourishment are essential. Dogs are not permitted.
URL:https://riwps.org/event/identifying-common-invasive-plants-walk-narragansett/
LOCATION:Narragansett\, RI
CATEGORIES:General Event,Programs,Walks
END:VEVENT
END:VCALENDAR