BEGIN:VCALENDAR
VERSION:2.0
PRODID:-//Rhode Island Wild Plant Society - ECPv6.15.17.1//NONSGML v1.0//EN
CALSCALE:GREGORIAN
METHOD:PUBLISH
X-ORIGINAL-URL:https://riwps.org
X-WR-CALDESC:Events for Rhode Island Wild Plant Society
REFRESH-INTERVAL;VALUE=DURATION:PT1H
X-Robots-Tag:noindex
X-PUBLISHED-TTL:PT1H
BEGIN:VTIMEZONE
TZID:America/New_York
BEGIN:DAYLIGHT
TZOFFSETFROM:-0500
TZOFFSETTO:-0400
TZNAME:EDT
DTSTART:20240310T070000
END:DAYLIGHT
BEGIN:STANDARD
TZOFFSETFROM:-0400
TZOFFSETTO:-0500
TZNAME:EST
DTSTART:20241103T060000
END:STANDARD
BEGIN:DAYLIGHT
TZOFFSETFROM:-0500
TZOFFSETTO:-0400
TZNAME:EDT
DTSTART:20250309T070000
END:DAYLIGHT
BEGIN:STANDARD
TZOFFSETFROM:-0400
TZOFFSETTO:-0500
TZNAME:EST
DTSTART:20251102T060000
END:STANDARD
BEGIN:DAYLIGHT
TZOFFSETFROM:-0500
TZOFFSETTO:-0400
TZNAME:EDT
DTSTART:20260308T070000
END:DAYLIGHT
BEGIN:STANDARD
TZOFFSETFROM:-0400
TZOFFSETTO:-0500
TZNAME:EST
DTSTART:20261101T060000
END:STANDARD
END:VTIMEZONE
BEGIN:VEVENT
DTSTART;TZID=America/New_York:20251102T100000
DTEND;TZID=America/New_York:20251102T120000
DTSTAMP:20260421T180404
CREATED:20251026T211341Z
LAST-MODIFIED:20260302T185733Z
UID:10000828-1762077600-1762084800@riwps.org
SUMMARY:Local Native Seed Sowing Workshop - Rhode Island Wild Plant Society/ReSeeding RI
DESCRIPTION:Learn the secrets to growing native plants from seeds – and why local matters.\nphoto GGardner \nThe Farmer’s Daughter\, South Kingstown\, RI\nSunday\, 11/2/25 from 10:00 – 12:00\nAdvance registration required – Fee $20.00\n  \n Native plants are easy to grow from seeds and this is the perfect time to get started! \nLearn why growing native plants from local seeds helps protect our wild plant populations and increases biodiversity \nThe workshop includes: \n• a brief presentation that demystifies eco-regions\, ecotypes and why local native plants are key to preserving our pollinators\, birds and other local fauna \n• hands-on seed sowing: participants will leave with a tray of 10 pots they have sown with native seeds \n• written instructions for seed sowing and information about where to place the pots for the winter\, when to look for germination next spring and when to plant them in the ground\, as well as other helpful resources. \nThank you for supporting RIWPS/ReSeeding RI\, our partner farms and land trusts and for restoring habitats by sowing local eco-typic seeds!
URL:https://riwps.org/event/local-native-seed-growing-workshop/
LOCATION:South Kingstown\, RI
CATEGORIES:Programs,Workshop,Workshops
END:VEVENT
END:VCALENDAR