BEGIN:VCALENDAR
VERSION:2.0
PRODID:-//Rhode Island Wild Plant Society - ECPv6.15.17.1//NONSGML v1.0//EN
CALSCALE:GREGORIAN
METHOD:PUBLISH
X-ORIGINAL-URL:https://riwps.org
X-WR-CALDESC:Events for Rhode Island Wild Plant Society
REFRESH-INTERVAL;VALUE=DURATION:PT1H
X-Robots-Tag:noindex
X-PUBLISHED-TTL:PT1H
BEGIN:VTIMEZONE
TZID:America/New_York
BEGIN:DAYLIGHT
TZOFFSETFROM:-0500
TZOFFSETTO:-0400
TZNAME:EDT
DTSTART:20230312T070000
END:DAYLIGHT
BEGIN:STANDARD
TZOFFSETFROM:-0400
TZOFFSETTO:-0500
TZNAME:EST
DTSTART:20231105T060000
END:STANDARD
BEGIN:DAYLIGHT
TZOFFSETFROM:-0500
TZOFFSETTO:-0400
TZNAME:EDT
DTSTART:20240310T070000
END:DAYLIGHT
BEGIN:STANDARD
TZOFFSETFROM:-0400
TZOFFSETTO:-0500
TZNAME:EST
DTSTART:20241103T060000
END:STANDARD
BEGIN:DAYLIGHT
TZOFFSETFROM:-0500
TZOFFSETTO:-0400
TZNAME:EDT
DTSTART:20250309T070000
END:DAYLIGHT
BEGIN:STANDARD
TZOFFSETFROM:-0400
TZOFFSETTO:-0500
TZNAME:EST
DTSTART:20251102T060000
END:STANDARD
BEGIN:DAYLIGHT
TZOFFSETFROM:-0500
TZOFFSETTO:-0400
TZNAME:EDT
DTSTART:20260308T070000
END:DAYLIGHT
BEGIN:STANDARD
TZOFFSETFROM:-0400
TZOFFSETTO:-0500
TZNAME:EST
DTSTART:20261101T060000
END:STANDARD
END:VTIMEZONE
BEGIN:VEVENT
DTSTART;TZID=America/New_York:20250501T100000
DTEND;TZID=America/New_York:20250501T120000
DTSTAMP:20260424T090938
CREATED:20250331T061838Z
LAST-MODIFIED:20250407T104707Z
UID:10000424-1746093600-1746100800@riwps.org
SUMMARY:First Thursday Botanizing Walk: Grills Wildlife Sanctuary
DESCRIPTION:Early blooms. Erythronium americanum ssp. americanum (American trout-lily)\, Grills\, Westerly\, RI \nJoin biologist Denise Poyer on May 1 from 10 am to noon to discover early spring flowers at the Grills Wildlife Sanctuary in Bradford\, RI.  \nIf our timing is right\, we should see an abundance of the elusive trout lily\, Erythronium americanum\, a sweet ephemeral whose blossoms only last a short time. The common name “trout lily” refers to the appearance of its gray-green leaves mottled with brown or gray\, which allegedly resemble the coloring of brook trout.  \nOther potential finds include wood anemone\, Anemonoides nemorosa\, and a variety of violets. If time allows\, we’ll check out a small cedar swamp.  \nPlan for about three miles of walking on wooded trails and wear appropriate hiking footwear. Trails are likely to be wet this time of year. \nCome share your enthusiasm and knowledge. Beginners to experts welcome! \nThis walk is free and open to the public.  Donations to help support our walks are appreciated.  DONATE NOW \nGeneral walk guidelines \nWear clothing and sturdy footwear appropriate for the weather conditions and for protection against sun exposure\, ticks and other insects\, briers\, tree root etc. Bring a sufficient supply of water and nourishment for your needs. \nDogs are not permitted. \nCancellations \nShould you need to cancel\, contact us as soon as possible. office@riwps.org  \nWe walk light rain or shine.  In case of  cancellations due to poor weather conditions\, we will email you. We tend to wait until the day before the walk to make this call as weather forecasts can be changeable. \nRegistration is required \nThe number of participants is limited to maximize the ability for everyone to observe the plants and participate in the conversation.   \nNote: Only one person can register at a time. To register a second person\, just repeat the process. \nMore specific location of the to the walk is provided upon registration. \n  \n \n 
URL:https://riwps.org/event/ftb-grills-preserve/
LOCATION:Bradford\, RI
CATEGORIES:Botanizing Walk Series,General Event,Programs,Walks & Tours
END:VEVENT
BEGIN:VEVENT
DTSTART;TZID=America/New_York:20240718T100000
DTEND;TZID=America/New_York:20240718T120000
DTSTAMP:20260424T090938
CREATED:20240319T035315Z
LAST-MODIFIED:20240617T212952Z
UID:10000250-1721296800-1721304000@riwps.org
SUMMARY:First Thursday Botanizing Walk -Grills Preserve (rescheduled from June 6 due to heavy rain)
DESCRIPTION:red columbine \nOn Thursday July 18\, 2024\, from 10 am to noon\,  join Marc Doherty\, Westerly Land Trust’s Land Stewardship manager\, for a walk at WLT’s Grills Preserve. Located along the Pawcatuck River in Bradford\, Grills has a wide variety of habitats and soil types\, including a diversity of wetlands\, rocky outcrops\, pitch pine uplands and floodplain forest. \n\nPlants of note include Nantucket shadbush (Amelanchier nantucketensis)\, pink lady slipper (Cypripedium acaule)\, red columbine (Aquilegia canadensis)\, and the funky hackberry (Celtis occidentalis). Learn more about Grills Preserve\, including its history and trail maps\, here.  Pictures on flickr taken at Grills Preserve by Doug McGrady in April. Click here \n\nNote: A composting toilet is available at the trailhead. \n\nThis walk is free and open to the public. Donations are appreciated. DONATE \nRegistration Below.  We will email the meet up location and directions to those who register a few days before the walk using either office@riwps.org or communications@riwps.org.  (Be sure to check your spam/junk folder if you do not get this email.) \nCancellations. We always have more people who want to attend a walk than can be accommodated. Please if you find that you cannot attend\, notify the office@riwps.org as soon as possible. \nThis walk is a part of our First Thursday Botanizing Walk Series which is free and open to the public. See our Botanizing Walks home page for important details you should know about the walks in this series. \nAs with all our walks\, sturdy footwear\, clothing appropriate for the weather and for protection against sun exposure\, ticks and other insects\, briers\, tree root etc. as well as a sufficient supply of water and nourishment are essential. Dogs are not permitted.
URL:https://riwps.org/event/first-thursday-botanizing-walk-grills-preserve/
LOCATION:Bradford\, RI
CATEGORIES:Botanizing Walk Series,General Event,Programs,Walks
END:VEVENT
END:VCALENDAR