BEGIN:VCALENDAR
VERSION:2.0
PRODID:-//Rhode Island Wild Plant Society - ECPv6.15.17.1//NONSGML v1.0//EN
CALSCALE:GREGORIAN
METHOD:PUBLISH
X-WR-CALNAME:Rhode Island Wild Plant Society
X-ORIGINAL-URL:https://riwps.org
X-WR-CALDESC:Events for Rhode Island Wild Plant Society
REFRESH-INTERVAL;VALUE=DURATION:PT1H
X-Robots-Tag:noindex
X-PUBLISHED-TTL:PT1H
BEGIN:VTIMEZONE
TZID:America/New_York
BEGIN:DAYLIGHT
TZOFFSETFROM:-0500
TZOFFSETTO:-0400
TZNAME:EDT
DTSTART:20230312T070000
END:DAYLIGHT
BEGIN:STANDARD
TZOFFSETFROM:-0400
TZOFFSETTO:-0500
TZNAME:EST
DTSTART:20231105T060000
END:STANDARD
BEGIN:DAYLIGHT
TZOFFSETFROM:-0500
TZOFFSETTO:-0400
TZNAME:EDT
DTSTART:20240310T070000
END:DAYLIGHT
BEGIN:STANDARD
TZOFFSETFROM:-0400
TZOFFSETTO:-0500
TZNAME:EST
DTSTART:20241103T060000
END:STANDARD
BEGIN:DAYLIGHT
TZOFFSETFROM:-0500
TZOFFSETTO:-0400
TZNAME:EDT
DTSTART:20250309T070000
END:DAYLIGHT
BEGIN:STANDARD
TZOFFSETFROM:-0400
TZOFFSETTO:-0500
TZNAME:EST
DTSTART:20251102T060000
END:STANDARD
END:VTIMEZONE
BEGIN:VEVENT
DTSTART;TZID=America/New_York:20240401T100000
DTEND;TZID=America/New_York:20240401T113000
DTSTAMP:20260424T105552
CREATED:20240213T204342Z
LAST-MODIFIED:20240303T015213Z
UID:10000243-1711965600-1711971000@riwps.org
SUMMARY:Tour the Brown Herbarium
DESCRIPTION:Tour Brown University Herbarium on April 1 from 10 to 11:30 am.  The Brown Herbarium is located on the second floor of the Biomedical Center\, 171 Meeting St\, Providence.   \nphoto credit\, Brown University Herbarium \nBrown University Herbarium offers a priceless snapshot of botanical life\, in Rhode Island and across the nation and the world\, in the 19th and early 20th centuries. At Brown University Herbarium\, Rebecca Kartzinel\, Director\, invites you to tour the collection and consider its value to science and conservation.  \nLearn about the importance of herbaria\, the history of Brown’s collections\, and our current projects. Learn about how specimens are mounted and prepared for accession into the collection. Try a small herbarium challenge to decipher the labels of specimens.  Dr. Kartinzel\, member of the Department of Ecology\, Evolution\, and Organismal Biology at Brown\, earned her Ph.D. in Plant Biology from the University of Georgia in 2013 and has been director of the Brown University Herbarium since 2019. \nThis program is open to the public and is free. Donations are appreciated and support our educational outreach.   Donate now. \nRegistration Required. \nWaiting list: When the program is full\, a message will appear directing you to fill our the form below\, should you wish to be on the waiting list at that time. In case of cancellations\, we will reopen the registration and notify those on the waiting list.
URL:https://riwps.org/event/tour-the-brown-herbarium/
LOCATION:Brown University Herbarium\, 171 Meeting Street (Room 225)\, Providence\, RI\, 02912
CATEGORIES:General Event,Programs
GEO:41.828594;-71.402893
X-APPLE-STRUCTURED-LOCATION;VALUE=URI;X-ADDRESS=Brown University Herbarium 171 Meeting Street (Room 225) Providence RI 02912;X-APPLE-RADIUS=500;X-TITLE=171 Meeting Street (Room 225):geo:-71.402893,41.828594
END:VEVENT
END:VCALENDAR