BEGIN:VCALENDAR
VERSION:2.0
PRODID:-//Rhode Island Wild Plant Society - ECPv6.15.17.1//NONSGML v1.0//EN
CALSCALE:GREGORIAN
METHOD:PUBLISH
X-WR-CALNAME:Rhode Island Wild Plant Society
X-ORIGINAL-URL:https://riwps.org
X-WR-CALDESC:Events for Rhode Island Wild Plant Society
REFRESH-INTERVAL;VALUE=DURATION:PT1H
X-Robots-Tag:noindex
X-PUBLISHED-TTL:PT1H
BEGIN:VTIMEZONE
TZID:America/New_York
BEGIN:DAYLIGHT
TZOFFSETFROM:-0500
TZOFFSETTO:-0400
TZNAME:EDT
DTSTART:20230312T070000
END:DAYLIGHT
BEGIN:STANDARD
TZOFFSETFROM:-0400
TZOFFSETTO:-0500
TZNAME:EST
DTSTART:20231105T060000
END:STANDARD
BEGIN:DAYLIGHT
TZOFFSETFROM:-0500
TZOFFSETTO:-0400
TZNAME:EDT
DTSTART:20240310T070000
END:DAYLIGHT
BEGIN:STANDARD
TZOFFSETFROM:-0400
TZOFFSETTO:-0500
TZNAME:EST
DTSTART:20241103T060000
END:STANDARD
BEGIN:DAYLIGHT
TZOFFSETFROM:-0500
TZOFFSETTO:-0400
TZNAME:EDT
DTSTART:20250309T070000
END:DAYLIGHT
BEGIN:STANDARD
TZOFFSETFROM:-0400
TZOFFSETTO:-0500
TZNAME:EST
DTSTART:20251102T060000
END:STANDARD
BEGIN:DAYLIGHT
TZOFFSETFROM:-0500
TZOFFSETTO:-0400
TZNAME:EDT
DTSTART:20260308T070000
END:DAYLIGHT
BEGIN:STANDARD
TZOFFSETFROM:-0400
TZOFFSETTO:-0500
TZNAME:EST
DTSTART:20261101T060000
END:STANDARD
END:VTIMEZONE
BEGIN:VEVENT
DTSTART;TZID=America/New_York:20250204T180000
DTEND;TZID=America/New_York:20250204T190000
DTSTAMP:20260421T175504
CREATED:20250127T110003Z
LAST-MODIFIED:20250115T025006Z
UID:10000404-1738692000-1738695600@riwps.org
SUMMARY:Winter Sowing Native Plants
DESCRIPTION:Winter Sowing Native Plants\nFebruary 4 | 6 – 7 pm \nHarmony Library\, Chepachet RI \n  \nInterested in learning how to grow your own native plants?  Our team will provide gardeners with the materials and information needed to winter sow native plants.  Gardeners will sow seeds into a gallon milk jug and will be provided with instructions for winter care\, transplanting\, summer care\, and fall planting. Gardeners will be provided with seeds to take home for additional sowing. \nGardeners will need to bring a 1 gallon clear/translucent milk jug.  Gloves (optional).\nIn addition\, gardeners will need to have an outdoor place to store the milk jug over the winter. \nGardeners will be provided with links to websites that will provide information\n• How to hold the jugs over the winter and transplant the seedlings from the jugs to pots\n• How to grow the seedlings over the summer and plant the seedlings into the ground\n• Gardening guides for plants native to Rhode Island \nWe are a team of Master Gardeners and Rhode Island Wild Plant Society members\, including Betsy Lennon\, Susan Ricercato\, Kristen Buckley\, Mark Cordle\, Kate Sullivan\, Elaine Roman\, Noelle Wood\, Mari Nadolny\, Mary OConnor and Tricia Cass. We are coodinating with the Grow Rhode Island Native Seeds (GRINS) organization to provide winter sowing workshops.  We have been working with the United States Fish and Wildlife Service for several years to create native plant gardens at Kettle Pond\, Trustom Pond\, and Sachuest Point and to propagate and plant thousands of native plants at wildlife refuges\, schools\, and public parks throughout Rhode Island.   \nThis program is offered at Harmony Library\, 195 Putnam Pike\, Chepachet\, RI 02814.  Reregister for this event online at https://www.glocesterlibraries.org/events.html (on the ‘Events’ calendar) or call the library at 949-2850. \n 
URL:https://riwps.org/event/winter-sowing-native-plants/
LOCATION:Chepachet\, RI
CATEGORIES:RIWPS Associated Events
END:VEVENT
BEGIN:VEVENT
DTSTART;TZID=America/New_York:20240905T100000
DTEND;TZID=America/New_York:20240905T120000
DTSTAMP:20260421T175504
CREATED:20240721T195438Z
LAST-MODIFIED:20240824T171505Z
UID:10000263-1725530400-1725537600@riwps.org
SUMMARY:First Thursday Botanizing Walk -  Sprague Farm Town Forest
DESCRIPTION:Acer pensylvanicum (goosefoot maple\, striped maple)\, photo DMcGrady \nNote: Details of this walk have been updated as of August 6 to reflect a change from the original planned route of the walk. \nOn 5 September 2024 from 10 am to 12 pm join Tysh McGrail\, long time RIWPS member\, landscape designer and lover of native plants\, at the Sprague Farm Town Forest\, a 1\,278+ acre Glocester Land Trust Property. Our walk will pass along the edge of a White Cedar swamp\, a vernal pool\, colonial era farmstead remnants\, fieldstone bridges over streams and many stone walls. \nWe will be walking under oaks\, white pine\, beech\, birch\, shagbark hickory\, hemlock\, and tupelo. There is also a “rare for Rhode Island” stand of striped maple (aka Moosewood) to see. The understory includes stand upon stand of mountain laurel\, sweet pepper bush\, and huckleberry. The ground layer will reveal wild calla\, narrow leaf mountain mint\, royal fern\, and the American groundnut vine among many other Rhode Island Natives. Mosses\, lichen and mushrooms are everywhere as are signs of the pileated woodpecker. \nIf you have additional time for exploring after our walk Tysh recommends heading over to the Atlantic Cedar Swamp. \n\n\n\nThis walk is free and open to the public. Donations are appreciated. DONATE \nRegistration Below.  We will email the meet up location and directions to those who register a few days before the walk using either office@riwps.org or communications@riwps.org.  (Be sure to check your spam/junk folder if you do not get this email.) \nCancellations. We always have more people who want to attend a walk than can be accommodated. If you find that you cannot attend\, notify communications@riwps.org as soon as possible. \nThis walk is a part of our First Thursday Botanizing Walk Series which is free and open to the public. See our Botanizing Walks home page for important information about these walks.\nAs with all our walks\, sturdy footwear\, clothing appropriate for the weather and for protection against sun exposure\, ticks and other insects\, briers\, tree root etc. as well as a sufficient supply of water and nourishment are essential. Dogs are not permitted.
URL:https://riwps.org/event/first-thursday-botanizing-walk-sprague-farm-town-forest/
LOCATION:Chepachet\, RI
CATEGORIES:Botanizing Walk Series,General Event,Programs,Walks
END:VEVENT
END:VCALENDAR