BEGIN:VCALENDAR
VERSION:2.0
PRODID:-//Rhode Island Wild Plant Society - ECPv6.15.17.1//NONSGML v1.0//EN
CALSCALE:GREGORIAN
METHOD:PUBLISH
X-ORIGINAL-URL:https://riwps.org
X-WR-CALDESC:Events for Rhode Island Wild Plant Society
REFRESH-INTERVAL;VALUE=DURATION:PT1H
X-Robots-Tag:noindex
X-PUBLISHED-TTL:PT1H
BEGIN:VTIMEZONE
TZID:America/New_York
BEGIN:DAYLIGHT
TZOFFSETFROM:-0500
TZOFFSETTO:-0400
TZNAME:EDT
DTSTART:20240310T070000
END:DAYLIGHT
BEGIN:STANDARD
TZOFFSETFROM:-0400
TZOFFSETTO:-0500
TZNAME:EST
DTSTART:20241103T060000
END:STANDARD
BEGIN:DAYLIGHT
TZOFFSETFROM:-0500
TZOFFSETTO:-0400
TZNAME:EDT
DTSTART:20250309T070000
END:DAYLIGHT
BEGIN:STANDARD
TZOFFSETFROM:-0400
TZOFFSETTO:-0500
TZNAME:EST
DTSTART:20251102T060000
END:STANDARD
BEGIN:DAYLIGHT
TZOFFSETFROM:-0500
TZOFFSETTO:-0400
TZNAME:EDT
DTSTART:20260308T070000
END:DAYLIGHT
BEGIN:STANDARD
TZOFFSETFROM:-0400
TZOFFSETTO:-0500
TZNAME:EST
DTSTART:20261101T060000
END:STANDARD
END:VTIMEZONE
BEGIN:VEVENT
DTSTART;TZID=America/New_York:20250422T180000
DTEND;TZID=America/New_York:20250422T190000
DTSTAMP:20260421T161503
CREATED:20250331T061012Z
LAST-MODIFIED:20250331T061012Z
UID:10000426-1745344800-1745348400@riwps.org
SUMMARY:Ecosystem Gardening with RI Native Wildflowers
DESCRIPTION:Ecosystem Gardening with RI Native Wildflowers\n\n\n\n\nCome to a RIWPS presentation on April 22\, 2025 at 6 pm for a talk at the East Greenwich Library 82 Pierce Street\, East  Greenwich. \nWant to turn your backyard into a bio-diverse refuge for the plants\, birds\, pollinators and animals that share our planet? \nCome and learn about the importance of RI native plants and how to use them to create beautiful\, well-balanced and thriving landscapes. This presentation will focus on wildflowers through the seasons and for a variety of conditions. \nRegistration is required and is though the East Greenwich Library \n CLICK HERE to reserve a space.
URL:https://riwps.org/event/ecosystem-gardening-with-ri-native-wildflowers/
LOCATION:East Greenwich Library\, 82 Pierce Street\, East Greenwich\, Rhode Island
CATEGORIES:General Event,Programs,Talks
END:VEVENT
END:VCALENDAR