BEGIN:VCALENDAR
VERSION:2.0
PRODID:-//Rhode Island Wild Plant Society - ECPv6.15.17.1//NONSGML v1.0//EN
CALSCALE:GREGORIAN
METHOD:PUBLISH
X-ORIGINAL-URL:https://riwps.org
X-WR-CALDESC:Events for Rhode Island Wild Plant Society
REFRESH-INTERVAL;VALUE=DURATION:PT1H
X-Robots-Tag:noindex
X-PUBLISHED-TTL:PT1H
BEGIN:VTIMEZONE
TZID:America/New_York
BEGIN:DAYLIGHT
TZOFFSETFROM:-0500
TZOFFSETTO:-0400
TZNAME:EDT
DTSTART:20240310T070000
END:DAYLIGHT
BEGIN:STANDARD
TZOFFSETFROM:-0400
TZOFFSETTO:-0500
TZNAME:EST
DTSTART:20241103T060000
END:STANDARD
BEGIN:DAYLIGHT
TZOFFSETFROM:-0500
TZOFFSETTO:-0400
TZNAME:EDT
DTSTART:20250309T070000
END:DAYLIGHT
BEGIN:STANDARD
TZOFFSETFROM:-0400
TZOFFSETTO:-0500
TZNAME:EST
DTSTART:20251102T060000
END:STANDARD
BEGIN:DAYLIGHT
TZOFFSETFROM:-0500
TZOFFSETTO:-0400
TZNAME:EDT
DTSTART:20260308T070000
END:DAYLIGHT
BEGIN:STANDARD
TZOFFSETFROM:-0400
TZOFFSETTO:-0500
TZNAME:EST
DTSTART:20261101T060000
END:STANDARD
END:VTIMEZONE
BEGIN:VEVENT
DTSTART;TZID=America/New_York:20251206T130000
DTEND;TZID=America/New_York:20251206T153000
DTSTAMP:20260421T122017
CREATED:20251019T185941Z
LAST-MODIFIED:20251106T174950Z
UID:10000449-1765026000-1765035000@riwps.org
SUMMARY:Lisa Lofland Gould Program - Forests in a Changing Climate: Impact on Trees and Ecosystems
DESCRIPTION:Forests in a Changing Climate: Impacts on Trees and Ecosystems with Dr. Ali Kosiba\n \nLisa Lofland Gould Program\nThis program is underwritten by the Lisa Lofland Gould Native Plant Program Fund and sponsored by Rhode Island Wild Plant Society\,  Rhode Island Natural History Survey and University of Rhode Island Master Gardener Program.  \nSaturday\, December 6\, 2025 \n1:00 pm – 3:30 pm \nAvedesian Hall\, Room 170\, Pharmacy Building \n7 Greenhouse Road \nKingston\, RI \ndriving & parking directions \nJoin Dr. Ali Kosiba\, forest ecophysiologist and Extension Assistant Professor of Forestry at the University of Vermont\, for a talk on how climate change is reshaping our forests. How are climate-driven shifts already underway\, from warmer winters to more frequent extreme weather\, affecting tree physiology\, health\, and survival? What do these tree-level impacts mean in terms of broader forest ecosystem responses\, including carbon storage\, wildlife habitat\, and long-term forest resilience? \nAt the University of Vermont Dr. Kosiba leads the Extension Forestry Program and serves as the State Extension Forester. Her work focuses on bridging research and practice\, helping landowners\, professionals\, and the public understand forest ecology and sustainable management. Her research and outreach center on tree responses to climate change\, forest carbon dynamics\, and ecosystem processes. She serves as a regional educator on forest carbon science and management\, leading the Vermont Forest Carbon Inventory. Additionally\, she addresses forest health challenges\, including conservation planning for at-risk tree species\, maintaining critical forest services\, and long-term forest monitoring. \nFree and open to the public. Come learn and network!  \nRegister Below \n  \nSchedule – doors open at 1:00 pm\, program at 1:30 pm followed by discussion and refreshments until 3:30 \n \n\n 
URL:https://riwps.org/event/lisa-lofland-gould-program-forests-in-a-changing-climate-impact-on-trees-and-ecosystems/
LOCATION:URI Kingston\, RI
CATEGORIES:General Event,Programs,Talks
END:VEVENT
END:VCALENDAR